Package: phosphonormalizer Version: 1.26.0 Command: rm -rf phosphonormalizer.buildbin-libdir && mkdir phosphonormalizer.buildbin-libdir && /Users/biocbuild/BBS/utils/build-universal.sh phosphonormalizer_1.26.0.tar.gz /Library/Frameworks/R.framework/Resources/bin/R phosphonormalizer.buildbin-libdir StartedAt: 2024-03-04 00:56:04 -0500 (Mon, 04 Mar 2024) EndedAt: 2024-03-04 00:56:09 -0500 (Mon, 04 Mar 2024) EllapsedTime: 5.8 seconds RetCode: 0 Status: OK PackageFile: phosphonormalizer_1.26.0.tgz PackageFileSize: 2.703 MiB