Package: phenopath Version: 1.26.0 Command: /Library/Frameworks/R.framework/Resources/bin/R CMD INSTALL phenopath StartedAt: 2024-04-15 15:17:05 -0400 (Mon, 15 Apr 2024) EndedAt: 2024-04-15 15:18:30 -0400 (Mon, 15 Apr 2024) EllapsedTime: 85.3 seconds RetCode: 0 Status: OK