Package: phenopath Version: 1.26.0 Command: /home/biocbuild/R/R-4.3.1/bin/R CMD check --install=check:phenopath.install-out.txt --library=/home/biocbuild/R/R-4.3.1/site-library --no-vignettes --timings phenopath_1.26.0.tar.gz StartedAt: 2023-11-02 13:03:54 -0000 (Thu, 02 Nov 2023) EndedAt: 2023-11-02 13:07:35 -0000 (Thu, 02 Nov 2023) EllapsedTime: 221.4 seconds RetCode: 0 Status: OK CheckDir: phenopath.Rcheck Warnings: 0