Package: phenoTest Version: 1.50.0 Command: F:\biocbuild\bbs-3.18-bioc\R\bin\R.exe CMD INSTALL phenoTest StartedAt: 2024-04-15 16:24:34 -0400 (Mon, 15 Apr 2024) EndedAt: 2024-04-15 16:25:24 -0400 (Mon, 15 Apr 2024) EllapsedTime: 49.7 seconds RetCode: 0 Status: OK