Package: phenoTest Version: 1.50.0 Command: /Library/Frameworks/R.framework/Resources/bin/R CMD build --keep-empty-dirs --no-resave-data phenoTest StartedAt: 2024-04-15 20:52:10 -0400 (Mon, 15 Apr 2024) EndedAt: 2024-04-15 20:54:53 -0400 (Mon, 15 Apr 2024) EllapsedTime: 163.2 seconds RetCode: 0 Status: OK PackageFile: phenoTest_1.50.0.tar.gz PackageFileSize: 1.273 MiB