Package: phenoTest Version: 1.50.0 Command: /Library/Frameworks/R.framework/Resources/bin/R CMD INSTALL phenoTest StartedAt: 2024-03-03 15:32:48 -0500 (Sun, 03 Mar 2024) EndedAt: 2024-03-03 15:33:37 -0500 (Sun, 03 Mar 2024) EllapsedTime: 49.4 seconds RetCode: 0 Status: OK