Package: phemd Version: 1.18.0 Command: /Library/Frameworks/R.framework/Resources/bin/R CMD INSTALL phemd StartedAt: 2024-03-03 15:35:34 -0500 (Sun, 03 Mar 2024) EndedAt: 2024-03-03 15:36:38 -0500 (Sun, 03 Mar 2024) EllapsedTime: 64.1 seconds RetCode: 0 Status: OK