Package: phemd Version: 1.18.0 Command: /Library/Frameworks/R.framework/Resources/bin/R CMD check --install=check:phemd.install-out.txt --library=/Library/Frameworks/R.framework/Resources/library --no-vignettes --timings phemd_1.18.0.tar.gz StartedAt: 2023-10-26 22:04:30 -0400 (Thu, 26 Oct 2023) EndedAt: 2023-10-26 22:12:00 -0400 (Thu, 26 Oct 2023) EllapsedTime: 449.7 seconds RetCode: 0 Status: WARNINGS CheckDir: phemd.Rcheck Warnings: 1