Package: phemd Version: 1.18.0 Command: rm -rf phemd.buildbin-libdir && mkdir phemd.buildbin-libdir && /Users/biocbuild/BBS/utils/build-universal.sh phemd_1.18.0.tar.gz /Library/Frameworks/R.framework/Resources/bin/R phemd.buildbin-libdir StartedAt: 2023-10-27 00:28:18 -0400 (Fri, 27 Oct 2023) EndedAt: 2023-10-27 00:29:21 -0400 (Fri, 27 Oct 2023) EllapsedTime: 62.4 seconds RetCode: 0 Status: OK PackageFile: phemd_1.18.0.tgz PackageFileSize: 1.268 MiB