Package: phemd Version: 1.18.0 Command: /home/biocbuild/R/R-4.3.1/bin/R CMD INSTALL phemd StartedAt: 2023-11-01 20:50:15 -0000 (Wed, 01 Nov 2023) EndedAt: 2023-11-01 20:51:16 -0000 (Wed, 01 Nov 2023) EllapsedTime: 60.6 seconds RetCode: 0 Status: OK