Package: phemd Version: 1.18.0 Command: /home/biocbuild/R/R-4.3.1/bin/R CMD check --install=check:phemd.install-out.txt --library=/home/biocbuild/R/R-4.3.1/site-library --no-vignettes --timings phemd_1.18.0.tar.gz StartedAt: 2023-11-02 13:03:38 -0000 (Thu, 02 Nov 2023) EndedAt: 2023-11-02 13:12:16 -0000 (Thu, 02 Nov 2023) EllapsedTime: 518.0 seconds RetCode: 0 Status: WARNINGS CheckDir: phemd.Rcheck Warnings: 1