Package: phantasusLite Version: 1.0.0 Command: /home/biocbuild/R/R-4.3.1/bin/R CMD INSTALL phantasusLite StartedAt: 2023-11-01 20:12:28 -0000 (Wed, 01 Nov 2023) EndedAt: 2023-11-01 20:12:52 -0000 (Wed, 01 Nov 2023) EllapsedTime: 24.2 seconds RetCode: 0 Status: OK