Package: phantasus Version: 1.22.2 Command: chmod a+r phantasus -R && F:\biocbuild\bbs-3.18-bioc\R\bin\R.exe CMD build --keep-empty-dirs --no-resave-data phantasus StartedAt: 2024-04-15 20:15:57 -0400 (Mon, 15 Apr 2024) EndedAt: 2024-04-15 20:16:47 -0400 (Mon, 15 Apr 2024) EllapsedTime: 49.3 seconds RetCode: 0 Status: OK PackageFile: phantasus_1.22.2.tar.gz PackageFileSize: 9.53 MiB