Package: phantasus Version: 1.22.2 Command: /Library/Frameworks/R.framework/Resources/bin/R CMD INSTALL phantasus StartedAt: 2024-04-15 16:07:04 -0400 (Mon, 15 Apr 2024) EndedAt: 2024-04-15 16:08:10 -0400 (Mon, 15 Apr 2024) EllapsedTime: 65.8 seconds RetCode: 0 Status: OK