Package: phantasus Version: 1.22.0 Command: /home/biocbuild/R/R-4.3.1/bin/R CMD check --install=check:phantasus.install-out.txt --library=/home/biocbuild/R/R-4.3.1/site-library --no-vignettes --timings phantasus_1.22.0.tar.gz StartedAt: 2023-11-02 13:02:32 -0000 (Thu, 02 Nov 2023) EndedAt: 2023-11-02 13:09:26 -0000 (Thu, 02 Nov 2023) EllapsedTime: 413.8 seconds RetCode: 0 Status: WARNINGS CheckDir: phantasus.Rcheck Warnings: 3