Package: pgca Version: 1.26.0 Command: /Library/Frameworks/R.framework/Resources/bin/R CMD check --install=check:pgca.install-out.txt --library=/Library/Frameworks/R.framework/Resources/library --no-vignettes --timings pgca_1.26.0.tar.gz StartedAt: 2024-03-03 22:31:44 -0500 (Sun, 03 Mar 2024) EndedAt: 2024-03-03 22:32:12 -0500 (Sun, 03 Mar 2024) EllapsedTime: 28.4 seconds RetCode: 0 Status: OK CheckDir: pgca.Rcheck Warnings: 0