Package: pfamAnalyzeR Version: 1.2.0 Command: chmod a+r pfamAnalyzeR -R && F:\biocbuild\bbs-3.18-bioc\R\bin\R.exe CMD build --keep-empty-dirs --no-resave-data pfamAnalyzeR StartedAt: 2024-04-15 20:15:25 -0400 (Mon, 15 Apr 2024) EndedAt: 2024-04-15 20:15:50 -0400 (Mon, 15 Apr 2024) EllapsedTime: 24.6 seconds RetCode: 0 Status: OK PackageFile: pfamAnalyzeR_1.2.0.tar.gz PackageFileSize: 352 KiB