Package: pfamAnalyzeR Version: 1.2.0 Command: /home/biocbuild/bbs-3.18-bioc/R/bin/R CMD check --install=check:pfamAnalyzeR.install-out.txt --library=/home/biocbuild/bbs-3.18-bioc/R/site-library --timings pfamAnalyzeR_1.2.0.tar.gz StartedAt: 2024-04-16 02:15:20 -0400 (Tue, 16 Apr 2024) EndedAt: 2024-04-16 02:15:48 -0400 (Tue, 16 Apr 2024) EllapsedTime: 27.3 seconds RetCode: 0 Status: OK CheckDir: pfamAnalyzeR.Rcheck Warnings: 0