Package: pfamAnalyzeR Version: 1.2.0 Command: /Library/Frameworks/R.framework/Resources/bin/R CMD build --keep-empty-dirs --no-resave-data pfamAnalyzeR StartedAt: 2024-04-15 20:50:32 -0400 (Mon, 15 Apr 2024) EndedAt: 2024-04-15 20:50:49 -0400 (Mon, 15 Apr 2024) EllapsedTime: 17.5 seconds RetCode: 0 Status: OK PackageFile: pfamAnalyzeR_1.2.0.tar.gz PackageFileSize: 351.9 KiB