Package: pfamAnalyzeR Version: 1.2.0 Command: rm -rf pfamAnalyzeR.buildbin-libdir && mkdir pfamAnalyzeR.buildbin-libdir && /Users/biocbuild/BBS/utils/build-universal.sh pfamAnalyzeR_1.2.0.tar.gz /Library/Frameworks/R.framework/Resources/bin/R pfamAnalyzeR.buildbin-libdir StartedAt: 2024-04-16 12:24:51 -0400 (Tue, 16 Apr 2024) EndedAt: 2024-04-16 12:25:00 -0400 (Tue, 16 Apr 2024) EllapsedTime: 9.0 seconds RetCode: 0 Status: OK PackageFile: pfamAnalyzeR_1.2.0.tgz PackageFileSize: 310.6 KiB