Package: pepStat Version: 1.36.0 Command: /home/biocbuild/bbs-3.18-bioc/R/bin/R CMD check --install=check:pepStat.install-out.txt --library=/home/biocbuild/bbs-3.18-bioc/R/site-library --timings pepStat_1.36.0.tar.gz StartedAt: 2024-04-16 02:14:28 -0400 (Tue, 16 Apr 2024) EndedAt: 2024-04-16 02:17:42 -0400 (Tue, 16 Apr 2024) EllapsedTime: 193.9 seconds RetCode: 0 Status: OK CheckDir: pepStat.Rcheck Warnings: 0