Package: pepStat Version: 1.36.0 Command: /home/biocbuild/bbs-3.18-bioc/R/bin/R CMD build --keep-empty-dirs --no-resave-data pepStat StartedAt: 2024-04-15 18:30:50 -0400 (Mon, 15 Apr 2024) EndedAt: 2024-04-15 18:31:43 -0400 (Mon, 15 Apr 2024) EllapsedTime: 52.4 seconds RetCode: 0 Status: OK PackageFile: pepStat_1.36.0.tar.gz PackageFileSize: 295.7 KiB