Package: peco Version: 1.14.0 Command: /home/biocbuild/bbs-3.18-bioc/R/bin/R CMD build --keep-empty-dirs --no-resave-data peco StartedAt: 2024-04-15 18:30:38 -0400 (Mon, 15 Apr 2024) EndedAt: 2024-04-15 18:33:29 -0400 (Mon, 15 Apr 2024) EllapsedTime: 171.6 seconds RetCode: 0 Status: OK PackageFile: peco_1.14.0.tar.gz PackageFileSize: 1.056 MiB