Package: pcxn Version: 2.24.0 Command: F:\biocbuild\bbs-3.18-bioc\R\bin\R.exe CMD INSTALL pcxn StartedAt: 2024-04-15 15:45:29 -0400 (Mon, 15 Apr 2024) EndedAt: 2024-04-15 15:45:35 -0400 (Mon, 15 Apr 2024) EllapsedTime: 6.4 seconds RetCode: 0 Status: OK