Package: pcxn Version: 2.24.0 Command: rm -rf pcxn.buildbin-libdir && mkdir pcxn.buildbin-libdir && /Users/biocbuild/BBS/utils/build-universal.sh pcxn_2.24.0.tar.gz /Library/Frameworks/R.framework/Resources/bin/R pcxn.buildbin-libdir StartedAt: 2024-04-16 12:24:21 -0400 (Tue, 16 Apr 2024) EndedAt: 2024-04-16 12:24:28 -0400 (Tue, 16 Apr 2024) EllapsedTime: 7.7 seconds RetCode: 0 Status: OK PackageFile: pcxn_2.24.0.tgz PackageFileSize: 187.4 KiB