Package: pcxn Version: 2.24.0 Command: rm -rf pcxn.buildbin-libdir && mkdir pcxn.buildbin-libdir && /Users/biocbuild/BBS/utils/build-universal.sh pcxn_2.24.0.tar.gz /Library/Frameworks/R.framework/Resources/bin/R pcxn.buildbin-libdir StartedAt: 2024-03-04 00:55:41 -0500 (Mon, 04 Mar 2024) EndedAt: 2024-03-04 00:55:46 -0500 (Mon, 04 Mar 2024) EllapsedTime: 5.6 seconds RetCode: 0 Status: OK PackageFile: pcxn_2.24.0.tgz PackageFileSize: 187.4 KiB