Package: pcxn Version: 2.24.0 Command: /home/biocbuild/R/R-4.3.1/bin/R CMD check --install=check:pcxn.install-out.txt --library=/home/biocbuild/R/R-4.3.1/site-library --no-vignettes --timings pcxn_2.24.0.tar.gz StartedAt: 2023-11-02 12:59:01 -0000 (Thu, 02 Nov 2023) EndedAt: 2023-11-02 12:59:44 -0000 (Thu, 02 Nov 2023) EllapsedTime: 43.1 seconds RetCode: 0 Status: OK CheckDir: pcxn.Rcheck Warnings: 0