Package: paxtoolsr Version: 1.36.0 Command: /Library/Frameworks/R.framework/Resources/bin/R CMD INSTALL paxtoolsr StartedAt: 2024-04-15 15:11:36 -0400 (Mon, 15 Apr 2024) EndedAt: 2024-04-15 15:11:46 -0400 (Mon, 15 Apr 2024) EllapsedTime: 10.5 seconds RetCode: 0 Status: OK