Package: paxtoolsr Version: 1.36.0 Command: /Library/Frameworks/R.framework/Resources/bin/R CMD build --keep-empty-dirs --no-resave-data paxtoolsr StartedAt: 2024-04-15 20:47:06 -0400 (Mon, 15 Apr 2024) EndedAt: 2024-04-15 20:47:35 -0400 (Mon, 15 Apr 2024) EllapsedTime: 28.6 seconds RetCode: 1 Status: ERROR PackageFile: None PackageFileSize: NA