Package: paxtoolsr Version: 1.36.0 Command: rm -rf paxtoolsr.buildbin-libdir && mkdir paxtoolsr.buildbin-libdir && /Users/biocbuild/BBS/utils/build-universal.sh paxtoolsr_1.36.0.tar.gz /Library/Frameworks/R.framework/Resources/bin/R paxtoolsr.buildbin-libdir StartedAt: 2024-04-11 12:05:29 -0400 (Thu, 11 Apr 2024) EndedAt: 2024-04-11 12:05:54 -0400 (Thu, 11 Apr 2024) EllapsedTime: 24.5 seconds RetCode: 0 Status: OK PackageFile: paxtoolsr_1.36.0.tgz PackageFileSize: 25.67 MiB