Package: pathwayPCA Version: 1.18.0 Command: chmod a+r pathwayPCA -R && F:\biocbuild\bbs-3.18-bioc\R\bin\R.exe CMD build --keep-empty-dirs --no-resave-data pathwayPCA StartedAt: 2024-04-15 20:10:48 -0400 (Mon, 15 Apr 2024) EndedAt: 2024-04-15 20:15:24 -0400 (Mon, 15 Apr 2024) EllapsedTime: 275.7 seconds RetCode: 0 Status: OK PackageFile: pathwayPCA_1.18.0.tar.gz PackageFileSize: 2.851 MiB