Package: pathwayPCA Version: 1.18.0 Command: rm -rf pathwayPCA.buildbin-libdir && mkdir pathwayPCA.buildbin-libdir && F:\biocbuild\bbs-3.18-bioc\R\bin\R.exe CMD INSTALL --build --library=pathwayPCA.buildbin-libdir pathwayPCA_1.18.0.tar.gz StartedAt: 2024-04-16 07:25:32 -0400 (Tue, 16 Apr 2024) EndedAt: 2024-04-16 07:25:53 -0400 (Tue, 16 Apr 2024) EllapsedTime: 21.6 seconds RetCode: 0 Status: OK PackageFile: pathwayPCA_1.18.0.zip PackageFileSize: 2.81 MiB