Package: pathview Version: 1.42.0 Command: /Library/Frameworks/R.framework/Resources/bin/R CMD build --keep-empty-dirs --no-resave-data pathview StartedAt: 2024-03-03 17:45:30 -0500 (Sun, 03 Mar 2024) EndedAt: 2024-03-03 17:47:51 -0500 (Sun, 03 Mar 2024) EllapsedTime: 141.3 seconds RetCode: 0 Status: OK PackageFile: pathview_1.42.0.tar.gz PackageFileSize: 2.45 MiB