Package: pathifier Version: 1.40.0 Command: chmod a+r pathifier -R && F:\biocbuild\bbs-3.18-bioc\R\bin\R.exe CMD build --keep-empty-dirs --no-resave-data pathifier StartedAt: 2024-04-15 20:09:43 -0400 (Mon, 15 Apr 2024) EndedAt: 2024-04-15 20:10:05 -0400 (Mon, 15 Apr 2024) EllapsedTime: 21.6 seconds RetCode: 0 Status: OK PackageFile: pathifier_1.40.0.tar.gz PackageFileSize: 1.907 MiB