Package: pathifier Version: 1.40.0 Command: /home/biocbuild/bbs-3.18-bioc/R/bin/R CMD check --install=check:pathifier.install-out.txt --library=/home/biocbuild/bbs-3.18-bioc/R/site-library --timings pathifier_1.40.0.tar.gz StartedAt: 2024-04-16 02:07:05 -0400 (Tue, 16 Apr 2024) EndedAt: 2024-04-16 02:09:16 -0400 (Tue, 16 Apr 2024) EllapsedTime: 130.7 seconds RetCode: 0 Status: OK CheckDir: pathifier.Rcheck Warnings: 0