Package: pathifier Version: 1.40.0 Command: /home/biocbuild/bbs-3.18-bioc/R/bin/R CMD build --keep-empty-dirs --no-resave-data pathifier StartedAt: 2024-04-15 18:28:31 -0400 (Mon, 15 Apr 2024) EndedAt: 2024-04-15 18:28:59 -0400 (Mon, 15 Apr 2024) EllapsedTime: 28.2 seconds RetCode: 0 Status: OK PackageFile: pathifier_1.40.0.tar.gz PackageFileSize: 1.905 MiB