Package: pathifier Version: 1.40.0 Command: /Library/Frameworks/R.framework/Resources/bin/R CMD build --keep-empty-dirs --no-resave-data pathifier StartedAt: 2024-04-15 20:45:55 -0400 (Mon, 15 Apr 2024) EndedAt: 2024-04-15 20:46:54 -0400 (Mon, 15 Apr 2024) EllapsedTime: 59.5 seconds RetCode: 0 Status: OK PackageFile: pathifier_1.40.0.tar.gz PackageFileSize: 2.033 MiB