Package: pathifier Version: 1.40.0 Command: /Library/Frameworks/R.framework/Resources/bin/R CMD INSTALL pathifier StartedAt: 2024-03-03 15:06:12 -0500 (Sun, 03 Mar 2024) EndedAt: 2024-03-03 15:06:45 -0500 (Sun, 03 Mar 2024) EllapsedTime: 32.3 seconds RetCode: 0 Status: OK