Package: pathifier Version: 1.40.0 Command: /Library/Frameworks/R.framework/Resources/bin/R CMD build --keep-empty-dirs --no-resave-data pathifier StartedAt: 2024-03-03 17:44:53 -0500 (Sun, 03 Mar 2024) EndedAt: 2024-03-03 17:45:55 -0500 (Sun, 03 Mar 2024) EllapsedTime: 62.4 seconds RetCode: 0 Status: OK PackageFile: pathifier_1.40.0.tar.gz PackageFileSize: 2.032 MiB