Package: pathVar Version: 1.32.0 Command: /home/biocbuild/bbs-3.18-bioc/R/bin/R CMD INSTALL pathVar StartedAt: 2024-04-15 15:12:23 -0400 (Mon, 15 Apr 2024) EndedAt: 2024-04-15 15:12:31 -0400 (Mon, 15 Apr 2024) EllapsedTime: 7.7 seconds RetCode: 0 Status: OK