Package: pathVar Version: 1.32.0 Command: /Library/Frameworks/R.framework/Resources/bin/R CMD INSTALL pathVar StartedAt: 2024-03-03 15:09:12 -0500 (Sun, 03 Mar 2024) EndedAt: 2024-03-03 15:09:22 -0500 (Sun, 03 Mar 2024) EllapsedTime: 10.2 seconds RetCode: 0 Status: OK