Package: pathVar Version: 1.32.0 Command: /home/biocbuild/R/R-4.3.1/bin/R CMD check --install=check:pathVar.install-out.txt --library=/home/biocbuild/R/R-4.3.1/site-library --no-vignettes --timings pathVar_1.32.0.tar.gz StartedAt: 2023-11-02 12:58:14 -0000 (Thu, 02 Nov 2023) EndedAt: 2023-11-02 12:59:44 -0000 (Thu, 02 Nov 2023) EllapsedTime: 90.2 seconds RetCode: 1 Status: ERROR CheckDir: pathVar.Rcheck Warnings: NA