Package: pathVar Version: 1.32.0 Command: /home/biocbuild/R/R-4.3.1/bin/R CMD build --keep-empty-dirs --no-resave-data pathVar StartedAt: 2023-11-02 04:26:37 -0000 (Thu, 02 Nov 2023) EndedAt: 2023-11-02 04:28:33 -0000 (Thu, 02 Nov 2023) EllapsedTime: 116.2 seconds RetCode: 0 Status: OK PackageFile: pathVar_1.32.0.tar.gz PackageFileSize: 4.033 MiB