Package: pathRender Version: 1.70.0 Command: rm -rf pathRender.buildbin-libdir && mkdir pathRender.buildbin-libdir && F:\biocbuild\bbs-3.18-bioc\R\bin\R.exe CMD INSTALL --build --library=pathRender.buildbin-libdir pathRender_1.70.0.tar.gz StartedAt: 2024-04-16 07:25:27 -0400 (Tue, 16 Apr 2024) EndedAt: 2024-04-16 07:25:45 -0400 (Tue, 16 Apr 2024) EllapsedTime: 17.8 seconds RetCode: 0 Status: OK PackageFile: pathRender_1.70.0.zip PackageFileSize: 207.2 KiB