Package: pathRender Version: 1.70.0 Command: /home/biocbuild/R/R-4.3.1/bin/R CMD check --install=check:pathRender.install-out.txt --library=/home/biocbuild/R/R-4.3.1/site-library --no-vignettes --timings pathRender_1.70.0.tar.gz StartedAt: 2023-11-02 12:58:10 -0000 (Thu, 02 Nov 2023) EndedAt: 2023-11-02 13:00:10 -0000 (Thu, 02 Nov 2023) EllapsedTime: 120.3 seconds RetCode: 0 Status: OK CheckDir: pathRender.Rcheck Warnings: 0