Package: partCNV Version: 1.0.0 Command: F:\biocbuild\bbs-3.18-bioc\R\bin\R.exe CMD INSTALL partCNV StartedAt: 2024-04-15 16:45:49 -0400 (Mon, 15 Apr 2024) EndedAt: 2024-04-15 16:46:45 -0400 (Mon, 15 Apr 2024) EllapsedTime: 56.1 seconds RetCode: 0 Status: OK