Package: partCNV Version: 1.0.0 Command: chmod a+r partCNV -R && F:\biocbuild\bbs-3.18-bioc\R\bin\R.exe CMD build --keep-empty-dirs --no-resave-data partCNV StartedAt: 2024-04-15 20:09:00 -0400 (Mon, 15 Apr 2024) EndedAt: 2024-04-15 20:11:00 -0400 (Mon, 15 Apr 2024) EllapsedTime: 119.8 seconds RetCode: 0 Status: OK PackageFile: partCNV_1.0.0.tar.gz PackageFileSize: 4.492 MiB