Package: partCNV Version: 1.0.0 Command: /Library/Frameworks/R.framework/Resources/bin/R CMD check --install=check:partCNV.install-out.txt --library=/Library/Frameworks/R.framework/Resources/library --no-vignettes --timings partCNV_1.0.0.tar.gz StartedAt: 2024-03-03 22:27:40 -0500 (Sun, 03 Mar 2024) EndedAt: 2024-03-03 22:35:00 -0500 (Sun, 03 Mar 2024) EllapsedTime: 439.7 seconds RetCode: 0 Status: OK CheckDir: partCNV.Rcheck Warnings: 0