Package: parody Version: 1.60.0 Command: chmod a+r parody -R && F:\biocbuild\bbs-3.18-bioc\R\bin\R.exe CMD build --keep-empty-dirs --no-resave-data parody StartedAt: 2024-04-15 20:08:59 -0400 (Mon, 15 Apr 2024) EndedAt: 2024-04-15 20:09:33 -0400 (Mon, 15 Apr 2024) EllapsedTime: 33.7 seconds RetCode: 0 Status: OK PackageFile: parody_1.60.0.tar.gz PackageFileSize: 304.7 KiB