Package: parody Version: 1.60.0 Command: rm -rf parody.buildbin-libdir && mkdir parody.buildbin-libdir && F:\biocbuild\bbs-3.18-bioc\R\bin\R.exe CMD INSTALL --build --library=parody.buildbin-libdir parody_1.60.0.tar.gz StartedAt: 2024-04-16 07:25:16 -0400 (Tue, 16 Apr 2024) EndedAt: 2024-04-16 07:25:32 -0400 (Tue, 16 Apr 2024) EllapsedTime: 15.6 seconds RetCode: 0 Status: OK PackageFile: parody_1.60.0.zip PackageFileSize: 351.1 KiB